BEGIN:VCALENDAR
VERSION:2.0
PRODID:-//Bonsall Parish Council//Meeting Calendar//EN
CALSCALE:GREGORIAN
METHOD:PUBLISH
BEGIN:VEVENT
UID:71787-20261215@bonsall-pc.gov.uk
DTSTAMP:20260420T034613Z
DTSTART;VALUE=DATE:20261215
DTEND;VALUE=DATE:20261216
SUMMARY:Full Council meeting 7.30pm Tue 15th December 2026
DESCRIPTION:Full Council Meeting\nView details: https://bonsall-pc.gov.uk/meetings/full-council-meeting-7-30pm-tue-15th-december-2026/
URL:https://bonsall-pc.gov.uk/meetings/full-council-meeting-7-30pm-tue-15th-december-2026/
END:VEVENT
END:VCALENDAR
