BEGIN:VCALENDAR
VERSION:2.0
PRODID:-//Bonsall Parish Council//Meeting Calendar//EN
CALSCALE:GREGORIAN
METHOD:PUBLISH
BEGIN:VEVENT
UID:71786-20261117@bonsall-pc.gov.uk
DTSTAMP:20260420T015109Z
DTSTART;VALUE=DATE:20261117
DTEND;VALUE=DATE:20261118
SUMMARY:Full Council meeting 7.30pm Tue 17th November 2026
DESCRIPTION:Full Council Meeting\nView details: https://bonsall-pc.gov.uk/meetings/full-council-meeting-7-30pm-tue-17th-november-2026/
URL:https://bonsall-pc.gov.uk/meetings/full-council-meeting-7-30pm-tue-17th-november-2026/
END:VEVENT
END:VCALENDAR
