BEGIN:VCALENDAR
VERSION:2.0
PRODID:-//Bonsall Parish Council//Meeting Calendar//EN
CALSCALE:GREGORIAN
METHOD:PUBLISH
BEGIN:VEVENT
UID:71785-20261020@bonsall-pc.gov.uk
DTSTAMP:20260419T235557Z
DTSTART;VALUE=DATE:20261020
DTEND;VALUE=DATE:20261021
SUMMARY:Full Council meeting 7.30pm Tue 20th October 2026
DESCRIPTION:Full Council Meeting\nView details: https://bonsall-pc.gov.uk/meetings/full-council-meeting-7-30pm-tue-20th-october-2026/
URL:https://bonsall-pc.gov.uk/meetings/full-council-meeting-7-30pm-tue-20th-october-2026/
END:VEVENT
END:VCALENDAR
