BEGIN:VCALENDAR
VERSION:2.0
PRODID:-//Bonsall Parish Council//Meeting Calendar//EN
CALSCALE:GREGORIAN
METHOD:PUBLISH
BEGIN:VEVENT
UID:71784-20260915@bonsall-pc.gov.uk
DTSTAMP:20260419T220447Z
DTSTART;VALUE=DATE:20260915
DTEND;VALUE=DATE:20260916
SUMMARY:Full Council meeting 7.30pm 15th September 2026
DESCRIPTION:Full Council Meeting\nView details: https://bonsall-pc.gov.uk/meetings/full-council-meeting-7-30pm-15th-september-2026/
URL:https://bonsall-pc.gov.uk/meetings/full-council-meeting-7-30pm-15th-september-2026/
END:VEVENT
END:VCALENDAR
