BEGIN:VCALENDAR
VERSION:2.0
PRODID:-//Bonsall Parish Council//Meeting Calendar//EN
CALSCALE:GREGORIAN
METHOD:PUBLISH
BEGIN:VEVENT
UID:71783-20260616@bonsall-pc.gov.uk
DTSTAMP:20260419T182358Z
DTSTART;VALUE=DATE:20260616
DTEND;VALUE=DATE:20260617
SUMMARY:Full Council meeting 16th June 2026
DESCRIPTION:Full Council Meeting\nView details: https://bonsall-pc.gov.uk/meetings/full-council-meeting-16th-june-2026/
URL:https://bonsall-pc.gov.uk/meetings/full-council-meeting-16th-june-2026/
END:VEVENT
END:VCALENDAR
