BEGIN:VCALENDAR
VERSION:2.0
PRODID:-//Bonsall Parish Council//Meeting Calendar//EN
CALSCALE:GREGORIAN
METHOD:PUBLISH
BEGIN:VEVENT
UID:71781-20260721@bonsall-pc.gov.uk
DTSTAMP:20260419T200701Z
DTSTART;VALUE=DATE:20260721
DTEND;VALUE=DATE:20260722
SUMMARY:Full Council meeting 7.30pm 21st July 2026
DESCRIPTION:Full Council Meeting\nView details: https://bonsall-pc.gov.uk/meetings/full-council-meeting-7-30pm-16-june-2020/
URL:https://bonsall-pc.gov.uk/meetings/full-council-meeting-7-30pm-16-june-2020/
END:VEVENT
END:VCALENDAR
