BEGIN:VCALENDAR
VERSION:2.0
PRODID:-//Bonsall Parish Council//Meeting Calendar//EN
CALSCALE:GREGORIAN
METHOD:PUBLISH
BEGIN:VEVENT
UID:71779-20260421@bonsall-pc.gov.uk
DTSTAMP:20260419T150049Z
DTSTART;VALUE=DATE:20260421
DTEND;VALUE=DATE:20260422
SUMMARY:Full Council meeting 7.30pm Tue 21st April 2026
DESCRIPTION:Full Council Meeting\nView details: https://bonsall-pc.gov.uk/meetings/full-council-meeting-7-30pm-tue-21st-april-2026-2/
URL:https://bonsall-pc.gov.uk/meetings/full-council-meeting-7-30pm-tue-21st-april-2026-2/
END:VEVENT
END:VCALENDAR
