BEGIN:VCALENDAR
VERSION:2.0
PRODID:-//Bonsall Parish Council//Meeting Calendar//EN
CALSCALE:GREGORIAN
METHOD:PUBLISH
BEGIN:VEVENT
UID:71778-20260512@bonsall-pc.gov.uk
DTSTAMP:20260419T164358Z
DTSTART;VALUE=DATE:20260512
DTEND;VALUE=DATE:20260513
SUMMARY:Full Council meeting 7.30pm Tue 12th May 2026
DESCRIPTION:Full Council Meeting\nView details: https://bonsall-pc.gov.uk/meetings/full-council-meeting-7-30pm-tue-21st-april-2026/
URL:https://bonsall-pc.gov.uk/meetings/full-council-meeting-7-30pm-tue-21st-april-2026/
END:VEVENT
END:VCALENDAR
