BEGIN:VCALENDAR
VERSION:2.0
PRODID:-//Bonsall Parish Council//Meeting Calendar//EN
CALSCALE:GREGORIAN
METHOD:PUBLISH
BEGIN:VEVENT
UID:71770-20260317@bonsall-pc.gov.uk
DTSTAMP:20260419T133136Z
DTSTART;VALUE=DATE:20260317
DTEND;VALUE=DATE:20260318
SUMMARY:March Parish Council Meeting 17th March 2026 7.30pm
DESCRIPTION:Full Council Meeting\nView details: https://bonsall-pc.gov.uk/meetings/march-parish-council-meeting-17th-march-2026-7-30pm/
URL:https://bonsall-pc.gov.uk/meetings/march-parish-council-meeting-17th-march-2026-7-30pm/
END:VEVENT
END:VCALENDAR
