BEGIN:VCALENDAR
VERSION:2.0
PRODID:-//Bonsall Parish Council//Meeting Calendar//EN
CALSCALE:GREGORIAN
METHOD:PUBLISH
BEGIN:VEVENT
UID:71604-20250715@bonsall-pc.gov.uk
DTSTAMP:20260419T134504Z
DTSTART;VALUE=DATE:20250715
DTEND;VALUE=DATE:20250716
SUMMARY:Council Meeting 15th July 2025
DESCRIPTION:Full Council Meeting\nView details: https://bonsall-pc.gov.uk/meetings/council-meeting-15th-july-2025/
URL:https://bonsall-pc.gov.uk/meetings/council-meeting-15th-july-2025/
END:VEVENT
END:VCALENDAR
