BEGIN:VCALENDAR
VERSION:2.0
PRODID:-//Bonsall Parish Council//Meeting Calendar//EN
CALSCALE:GREGORIAN
METHOD:PUBLISH
BEGIN:VEVENT
UID:70912-20080101@bonsall-pc.gov.uk
DTSTAMP:20260420T084710Z
DTSTART;VALUE=DATE:20080101
DTEND;VALUE=DATE:20080102
SUMMARY:Council Meetings 2008
DESCRIPTION:Full Council Meeting\nView details: https://bonsall-pc.gov.uk/meetings/council-meetings-2008/
URL:https://bonsall-pc.gov.uk/meetings/council-meetings-2008/
END:VEVENT
END:VCALENDAR
