BEGIN:VCALENDAR
VERSION:2.0
PRODID:-//Bonsall Parish Council//Meeting Calendar//EN
CALSCALE:GREGORIAN
METHOD:PUBLISH
BEGIN:VEVENT
UID:70796-20160101@bonsall-pc.gov.uk
DTSTAMP:20260420T083617Z
DTSTART;VALUE=DATE:20160101
DTEND;VALUE=DATE:20160102
SUMMARY:Council Meetings 2016
DESCRIPTION:Full Council Meeting\nView details: https://bonsall-pc.gov.uk/meetings/council-meetings-2016/
URL:https://bonsall-pc.gov.uk/meetings/council-meetings-2016/
END:VEVENT
END:VCALENDAR
